BEGIN:VCALENDAR
PRODID:-//Microsoft Corporation//Outlook MIMEDIR//EN
VERSION:2.0
METHOD:PUBLISH
BEGIN:VEVENT
DTSTART:20260429T163000
DTEND:20260429T173000
DESCRIPTION:
LOCATION:Council Chambers, 6th Floor
SUMMARY:Community Development Committee
CATEGORIES:MEETING
END:VEVENT
END:VCALENDAR
