BEGIN:VCALENDAR
PRODID:-//Microsoft Corporation//Outlook MIMEDIR//EN
VERSION:2.0
METHOD:PUBLISH
BEGIN:VEVENT
DTSTART:20260422T080000
DTEND:20260422T090000
DESCRIPTION:Special Meeting
LOCATION:Council Chambers, 6th Floor
SUMMARY:Appleton Public Arts Committee
CATEGORIES:MEETING
END:VEVENT
END:VCALENDAR
