BEGIN:VCALENDAR
PRODID:-//Microsoft Corporation//Outlook MIMEDIR//EN
VERSION:2.0
METHOD:PUBLISH
BEGIN:VEVENT
DTSTART:20260420T180000
DTEND:20260420T190000
DESCRIPTION:This meeting has been cancelled.
LOCATION:Council Chambers, 6th Floor
SUMMARY:Parks and Recreation Committee
CATEGORIES:MEETING
END:VEVENT
END:VCALENDAR
